BEGIN:VCALENDAR
VERSION:2.0
PRODID:-//Les Jardins d&#039;Arcadie Quimper - ECPv6.15.20//NONSGML v1.0//EN
CALSCALE:GREGORIAN
METHOD:PUBLISH
X-WR-CALNAME:Les Jardins d&#039;Arcadie Quimper
X-ORIGINAL-URL:https://arcadie-quimper.fr
X-WR-CALDESC:Évènements pour Les Jardins d&#039;Arcadie Quimper
REFRESH-INTERVAL;VALUE=DURATION:PT1H
X-Robots-Tag:noindex
X-PUBLISHED-TTL:PT1H
BEGIN:VTIMEZONE
TZID:Europe/Paris
BEGIN:DAYLIGHT
TZOFFSETFROM:+0100
TZOFFSETTO:+0200
TZNAME:CEST
DTSTART:20250330T010000
END:DAYLIGHT
BEGIN:STANDARD
TZOFFSETFROM:+0200
TZOFFSETTO:+0100
TZNAME:CET
DTSTART:20251026T010000
END:STANDARD
BEGIN:DAYLIGHT
TZOFFSETFROM:+0100
TZOFFSETTO:+0200
TZNAME:CEST
DTSTART:20260329T010000
END:DAYLIGHT
BEGIN:STANDARD
TZOFFSETFROM:+0200
TZOFFSETTO:+0100
TZNAME:CET
DTSTART:20261025T010000
END:STANDARD
BEGIN:DAYLIGHT
TZOFFSETFROM:+0100
TZOFFSETTO:+0200
TZNAME:CEST
DTSTART:20270328T010000
END:DAYLIGHT
BEGIN:STANDARD
TZOFFSETFROM:+0200
TZOFFSETTO:+0100
TZNAME:CET
DTSTART:20271031T010000
END:STANDARD
END:VTIMEZONE
BEGIN:VEVENT
DTSTART;VALUE=DATE:20260419
DTEND;VALUE=DATE:20260420
DTSTAMP:20260419T224846
CREATED:20260411T001342Z
LAST-MODIFIED:20260411T001342Z
UID:5748-1776556800-1776643199@arcadie-quimper.fr
SUMMARY:Les menus Dimanche 19.04.26
DESCRIPTION:DEJEUNER : \n\n\n\nAsperges vinaigrette\n\n\n\nBrochettes de Saint-Jacques et sa sauce gourmande\n♦ ♦ ♦ ♦ ♦\nLotte rôtie au lard\nGigot d’agneau rôti\n♦ ♦ ♦ ♦ ♦\nPommes dauphines\nFlageolets persillés\n♦ ♦ ♦ ♦ ♦\nOpéra\nFramboise melba\n\n\n\n\n\n\nDINER : \n\n\n\n\n\n\nPotage de légumes\nŒuf dur mayonnaise\n♦ ♦ ♦ ♦ ♦\nSpaghettis à la carbonara\nGratin de poisson\n♦ ♦ ♦ ♦\nSpaghettis au beurre\n♦ ♦ ♦ ♦\nMirabelles au sirop\nSemoule de lait et raisin\n\n\n\n\n\n\n\n_______
URL:https://arcadie-quimper.fr/menus/les-menus-dimanche-19-04-26/
CATEGORIES:Menus
END:VEVENT
BEGIN:VEVENT
DTSTART;VALUE=DATE:20260420
DTEND;VALUE=DATE:20260421
DTSTAMP:20260419T224846
CREATED:20260411T004806Z
LAST-MODIFIED:20260411T004806Z
UID:5750-1776643200-1776729599@arcadie-quimper.fr
SUMMARY:Les menus Lundi 20.04.2026
DESCRIPTION:DEJEUNER : \n\n\n\n\n\n\n\n\n\n\n\n\n\n\n\nSalade de tomates anciennes\nRosettes de Lyon\n♦ ♦ ♦ ♦ ♦\nFilet de bœuf rôti\nEscalope de dinde à la milanaise\n♦ ♦ ♦ ♦ ♦\nFrites maison\nPiperade\n♦ ♦ ♦ ♦ ♦\nRiz au lait sur lit de fruits exotiques\nGâteau moelleux aux pommes\n\n♦ ♦ ♦ ♦ ♦\n\n\n\n\n\n\n\nDINER : \n\n\n\n\n\n\nPotage de légumes\nSalade d’endives aux noix\n♦ ♦ ♦ ♦ ♦\nColin à la bordelaise\nSaucisse grillée\n♦ ♦ ♦ ♦\nPurée de pommes de terre\n♦ ♦ ♦ ♦\nPanna cota pistache\nAnanas rôtie\n\n\n\n\n\n\n\n_______
URL:https://arcadie-quimper.fr/menus/les-menus-lundi-20-04-2026/
CATEGORIES:Menus
END:VEVENT
BEGIN:VEVENT
DTSTART;VALUE=DATE:20260421
DTEND;VALUE=DATE:20260422
DTSTAMP:20260419T224846
CREATED:20260411T005205Z
LAST-MODIFIED:20260411T005205Z
UID:5752-1776729600-1776815999@arcadie-quimper.fr
SUMMARY:Les menus Mardi 21.04.26
DESCRIPTION:DEJEUNER : \n\n\n\n\n\n\n\n\n♦ ♦ ♦ ♦ ♦\n\n\n\n\n\n\n\nGaspacho à l’andalouse\nCroustillant au camembert\n♦ ♦ ♦ ♦ ♦\nMaquereau sauce vierge\nJoue de porc à la bière\n♦ ♦ ♦ ♦ ♦\nEndives meunières\nRiz aux légumes\n♦ ♦ ♦ ♦ ♦\nVerrine charlotte framboise\nFar breton\n\n♦ ♦ ♦ ♦ ♦\n\n\n\n\n\n\n\nDINER : \n\n\n\n\n\n\nPotage de légumes\nChou-fleur mimosa\n♦ ♦ ♦ ♦ ♦\nCroque-monsieur\nPoisson froid aïoli\n♦ ♦ ♦ ♦\nHaricots verts\n♦ ♦ ♦ ♦\nCoupe de glace\nPoire rôties aux épices\n\n\n\n\n\n\n\n_______
URL:https://arcadie-quimper.fr/menus/les-menus-mardi-21-04-26/
CATEGORIES:Menus
END:VEVENT
BEGIN:VEVENT
DTSTART;VALUE=DATE:20260422
DTEND;VALUE=DATE:20260423
DTSTAMP:20260419T224846
CREATED:20260411T005643Z
LAST-MODIFIED:20260411T005643Z
UID:5754-1776816000-1776902399@arcadie-quimper.fr
SUMMARY:Les menus Mercredi 22.04.26
DESCRIPTION:DEJEUNER : \n\n\n\nSalade scarole et fourme d’Ambert\n\n\n\nFeuilleté aux pétoncles\n♦ ♦ ♦ ♦ ♦\nPoulet rôti\ntruite meunière\n♦ ♦ ♦ ♦ ♦\nGratin dauphinois\nPoêlée de légumes\n♦ ♦ ♦ ♦ ♦\nFondant au chocolat\nFraises au sucre\n\n\n\n\n\n\n♦ ♦ ♦ ♦ ♦ \n\n\n\n\n\n\n\nDINER :\n\nPotage de légumes\nSalade niçoise\n\n\n♦ ♦ ♦ ♦ ♦\nEncornet à la romaine\nŒufs sur le plat miroir\n♦ ♦ ♦ ♦ ♦\nRiz\n♦ ♦ ♦ ♦ ♦\nCrumble fruits rouges\nPlateau de fromage\n\n\n\n\n\n\n\n\n\n\n\n_______
URL:https://arcadie-quimper.fr/menus/les-menus-mercredi-22-04-26/
CATEGORIES:Menus
END:VEVENT
BEGIN:VEVENT
DTSTART;VALUE=DATE:20260423
DTEND;VALUE=DATE:20260424
DTSTAMP:20260419T224846
CREATED:20260411T005952Z
LAST-MODIFIED:20260411T005952Z
UID:5756-1776902400-1776988799@arcadie-quimper.fr
SUMMARY:Les menus Jeudi 23.04.26
DESCRIPTION:DEJEUNER : \n\n\n\n\n\n\n\n♦ ♦ ♦ ♦ ♦\nSoupe de poisson\nCarpaccio veau vitello\n♦ ♦ ♦ ♦ ♦\nRougail de saucisses\nDos de cabillaud au beurre blanc\n♦ ♦ ♦ ♦ ♦\nRiz créole\nBrocolis et chou-fleur vapeur\n♦ ♦ ♦ ♦ ♦\nFramboisier\nSalade de fruits frais\n\n\n\n\n\n\n\n  \nDINER : \n\n\n\n\n\n\nPotage de légumes\nAllumettes de fromages\n♦ ♦ ♦ ♦ ♦\nCrevettes bouillon chou\nsteak tartare\n♦ ♦ ♦ ♦\nFrites maison\n♦ ♦ ♦ ♦\nCoupe de sorbet\nPomme au four\n\n\n\n\n\n\n\n_______
URL:https://arcadie-quimper.fr/menus/les-menus-jeudi-23-04-26/
CATEGORIES:Menus
END:VEVENT
BEGIN:VEVENT
DTSTART;VALUE=DATE:20260424
DTEND;VALUE=DATE:20260425
DTSTAMP:20260419T224846
CREATED:20260417T232313Z
LAST-MODIFIED:20260417T232313Z
UID:5759-1776988800-1777075199@arcadie-quimper.fr
SUMMARY:Les menus Vendredi 24.04.26
DESCRIPTION:DEJEUNER : \n\n\n\n\n\n\n\n\n♦ ♦ ♦ ♦ ♦\n\n\n\n\n\n\n\n\n♦ ♦ ♦ ♦ ♦\nRepas Espagnol\n\n♦ ♦ ♦ ♦ ♦\n\n\n♦ ♦ ♦ ♦ ♦\n\n\n\n\n♦ ♦ ♦ ♦ ♦\n\n\n\n\n\n\n\nDINER : \n♦ ♦ ♦ ♦ ♦ \n\n\n\n\n\n\nPotage de légumes\nCarottes râpées au citron\n♦ ♦ ♦ ♦ ♦\nOmelette champignons/épinards\nDos de merlu beurre aux algues\n♦ ♦ ♦ ♦ ♦\nPoêlée de courgettes\n♦ ♦ ♦ ♦ ♦\nCompote de pêches\nMoka maison\n♦ ♦ ♦ ♦ ♦\n\n\n\n\n\n\n\n_______
URL:https://arcadie-quimper.fr/menus/les-menus-vendredi-24-04-26/
CATEGORIES:Menus
END:VEVENT
BEGIN:VEVENT
DTSTART;VALUE=DATE:20260425
DTEND;VALUE=DATE:20260426
DTSTAMP:20260419T224846
CREATED:20260417T232442Z
LAST-MODIFIED:20260417T232442Z
UID:5761-1777075200-1777161599@arcadie-quimper.fr
SUMMARY:Les menus Samedi 25.04.26
DESCRIPTION:DEJEUNER : \n\n\n\n\n\n\n\n\n♦ ♦ ♦ ♦ ♦\n\n\n\n\n\n\n\nTaboulé à l’orientale\nSalade frisée aux lardons\n♦ ♦ ♦ ♦ ♦\nFilet mignon à la moutarde\nBrandade de morue (plat complet)\n♦ ♦ ♦ ♦ ♦\nPurée de pommes de terre\nCôtes de blettes en gratin\n♦ ♦ ♦ ♦ ♦\nCrème brûlée\nAssiette de fromage\n\n\n♦ ♦ ♦ ♦ ♦\n\n\n\n\n\n\n\nDINER : \n♦ ♦ ♦ ♦ ♦ \n\n\n\n\n\n\nPotage de légumes\nFlan au thon\n♦ ♦ ♦ ♦ ♦\nTarte ricotta/épinards\nFilet de cabillaud pané\n♦ ♦ ♦ ♦ ♦\nCarottes vapeur\n♦ ♦ ♦ ♦ ♦\nFromage blanc à la crème de marrons\nFlan à la pomme\n♦ ♦ ♦ ♦ ♦\n\n\n\n\n\n\n\n_______
URL:https://arcadie-quimper.fr/menus/les-menus-samedi-25-04-26/
CATEGORIES:Menus
END:VEVENT
BEGIN:VEVENT
DTSTART;VALUE=DATE:20260426
DTEND;VALUE=DATE:20260427
DTSTAMP:20260419T224846
CREATED:20260417T232541Z
LAST-MODIFIED:20260417T232541Z
UID:5763-1777161600-1777247999@arcadie-quimper.fr
SUMMARY:Les menus Dimanche 26.04.26
DESCRIPTION:DEJEUNER : \n\n\n\n\n\n\n\n\n♦ ♦ ♦ ♦ ♦\n\n\n\n\n\n\n\nVol au vent de ris de veau\nTataki de thon\n♦ ♦ ♦ ♦ ♦\nCuisses de canard aux airelles\nCabillaud au beurre blanc\n♦ ♦ ♦ ♦ ♦\nRiz blanc\nJardinière de légumes\n♦ ♦ ♦ ♦ ♦\nCoupe forêt noire\nTarte au citron meringuée\n\n\n♦ ♦ ♦ ♦ ♦\n\n\n\n\n\n\n\nDINER : \n♦ ♦ ♦ ♦ ♦ \n\n\n\n\n\n\nPotage de légumes\nSalade de tomates et échalotes\n♦ ♦ ♦ ♦ ♦\nLinguines aux pétoncles\nEndives au jambon\n♦ ♦ ♦ ♦ ♦\nEndives poêlées\n♦ ♦ ♦ ♦ ♦\nSemoule au lait\nSablé ganache chocolat\n♦ ♦ ♦ ♦ ♦\n\n\n\n\n\n\n\n_______
URL:https://arcadie-quimper.fr/menus/les-menus-dimanche-26-04-26/
CATEGORIES:Menus
END:VEVENT
BEGIN:VEVENT
DTSTART;VALUE=DATE:20260427
DTEND;VALUE=DATE:20260428
DTSTAMP:20260419T224846
CREATED:20260417T232648Z
LAST-MODIFIED:20260417T232648Z
UID:5765-1777248000-1777334399@arcadie-quimper.fr
SUMMARY:Les menus Lundi 27.04.26
DESCRIPTION:DEJEUNER : \n\n\n\n\n\n\n\n\n♦ ♦ ♦ ♦ ♦\n\n\n\n\n\n\n\nAubergine grillée et fêta\nVerrine mimosa saumon\n♦ ♦ ♦ ♦ ♦\nFilet de bœuf poêlé sauce poivre vert\nAndouillette sauce moutarde\n♦ ♦ ♦ ♦ ♦\nFrites maison\nHaricots verts vapeur\n♦ ♦ ♦ ♦ ♦\nCèpe glacé\nAnanas frais au kirsch\n\n\n♦ ♦ ♦ ♦ ♦\n\n\n\n\n\n\n\nDINER : \n♦ ♦ ♦ ♦ ♦ \n\n\n\n\n\n\nPotage de légumes\nAssiette de saucissons à l’ail\n♦ ♦ ♦ ♦ ♦\nBrick de thon\nSteak haché de veau\n♦ ♦ ♦ ♦ ♦\nPurée de céleri\n♦ ♦ ♦ ♦ ♦\nPanna cotta aux framboises\nCompote de pommes et bananes\n♦ ♦ ♦ ♦ ♦\n\n\n\n\n\n\n\n_______
URL:https://arcadie-quimper.fr/menus/les-menus-lundi-27-04-26/
CATEGORIES:Menus
END:VEVENT
BEGIN:VEVENT
DTSTART;VALUE=DATE:20260428
DTEND;VALUE=DATE:20260429
DTSTAMP:20260419T224846
CREATED:20260417T232757Z
LAST-MODIFIED:20260417T232757Z
UID:5767-1777334400-1777420799@arcadie-quimper.fr
SUMMARY:Les menus Mardi 28.04.26
DESCRIPTION:DEJEUNER : \n\n\n\n\n\n\n\n\n♦ ♦ ♦ ♦ ♦\n\n\n\n\n\n\n\nGaspacho\, laitue et haddock\nCéleri rémoulade aux noix\n♦ ♦ ♦ ♦ ♦\nSauté de porc aigre doux ananas\nQuenelles de colin à l’armoricaine\n♦ ♦ ♦ ♦ ♦\nBrocolis vapeur\nTagliatelles au beurre\n♦ ♦ ♦ ♦ ♦\nSalade de fruits\nCrème renversée\n\n\n♦ ♦ ♦ ♦ ♦\n\n\n\n\n\n\n\nDINER : \n♦ ♦ ♦ ♦ ♦ \n\n\n\n\n\n\nPotage de légumes\nSalade de concombre à la crème\n♦ ♦ ♦ ♦ ♦\nPizza Margherita\nAccras de morue\n♦ ♦ ♦ ♦ ♦\nSalade mixte\n♦ ♦ ♦ ♦ ♦\nCoupe de glace\nTarte feuilletée aux poires\n♦ ♦ ♦ ♦ ♦\n\n\n\n\n\n\n\n_______
URL:https://arcadie-quimper.fr/menus/les-menus-mardi-28-04-26/
CATEGORIES:Menus
END:VEVENT
BEGIN:VEVENT
DTSTART;VALUE=DATE:20260429
DTEND;VALUE=DATE:20260430
DTSTAMP:20260419T224846
CREATED:20260417T232912Z
LAST-MODIFIED:20260417T232912Z
UID:5769-1777420800-1777507199@arcadie-quimper.fr
SUMMARY:Les menus Mercredi 29.04.26
DESCRIPTION:DEJEUNER : \n\n\n\n\n\n\n\n\n♦ ♦ ♦ ♦ ♦\n\n\n\n\n\n\n\nArtichaut vinaigrette\nAssiette de jambon de Bourgogne\n♦ ♦ ♦ ♦ ♦\nAile de raie meunière aux câpres\nPoulet basquaise\n♦ ♦ ♦ ♦ ♦\nJardinière provençale\nRiz blanc\n♦ ♦ ♦ ♦ ♦\nTarte aux pommes\nGâteau de semoule au caramel\n\n\n♦ ♦ ♦ ♦ ♦\n\n\n\n\n\n\n\nDINER : \n♦ ♦ ♦ ♦ ♦ \n\n\n\n\n\n\nPotage de légumes\nSalade scarole aux noix\n♦ ♦ ♦ ♦ ♦\nŒuf sur le plat au bacon\nMacaronis à la viande\n♦ ♦ ♦ ♦ ♦\nHaricots verts\n♦ ♦ ♦ ♦ ♦\nŒufs à la neige\nFaisselle et son coulis de fruits rouges\n♦ ♦ ♦ ♦ ♦\n\n\n\n\n\n\n\n_______
URL:https://arcadie-quimper.fr/menus/les-menus-mercredi-29-04-26/
CATEGORIES:Menus
END:VEVENT
BEGIN:VEVENT
DTSTART;VALUE=DATE:20260430
DTEND;VALUE=DATE:20260501
DTSTAMP:20260419T224846
CREATED:20260417T233028Z
LAST-MODIFIED:20260417T233028Z
UID:5771-1777507200-1777593599@arcadie-quimper.fr
SUMMARY:Les menus Jeudi 30.04.26
DESCRIPTION:DEJEUNER : \n\n\n\n\n\n\n\n\n♦ ♦ ♦ ♦ ♦\n\n\n\n\n\n\n\nPoivrons confits au thon\nVelouté Dubarry\n♦ ♦ ♦ ♦ ♦\nCouscous royal (plat complet)\nDos de merlu sauce curry\n♦ ♦ ♦ ♦ ♦\nSemoule de couscous aux raisins\nLégumes du couscous\n♦ ♦ ♦ ♦ ♦\nGâteau à l’ananas\nPomme au four et glace caramel\n\n\n♦ ♦ ♦ ♦ ♦\n\n\n\n\n\n\n\nDINER : \n♦ ♦ ♦ ♦ ♦ \n\n\n\n\n\n\nPotage de légumes\nFeuilleté au chèvre\n♦ ♦ ♦ ♦ ♦\nSoufflé au fromage et au jambon\nRôti de porc froid mayonnaise\n♦ ♦ ♦ ♦ ♦\nRiz\n♦ ♦ ♦ ♦ ♦\nKouign du Guilvinec\nCrème renversée\n♦ ♦ ♦ ♦ ♦\n\n\n\n\n\n\n\n_______
URL:https://arcadie-quimper.fr/menus/les-menus-jeudi-30-04-26/
CATEGORIES:Menus
END:VEVENT
END:VCALENDAR